BEGIN:VCALENDAR
VERSION:2.0
PRODID:-//Plone.org//NONSGML plone.app.event//EN
X-WR-TIMEZONE:US/Central
BEGIN:VEVENT
SUMMARY:Closed for Christmas
DTSTART;TZID=US/Central:20111223T113000
DTEND;TZID=US/Central:20111226T173000
DTSTAMP:20260419T164603Z
UID:890f41fd345f4ed9f07c9ab8cfb06cf7@saas_stack_varnish:6080
CREATED:20111214T203155Z
DESCRIPTION:Merry Christmas!
LAST-MODIFIED:20111214T204624Z
URL:https://www.groesbecklibrary.org/news-events/lib-cal/closed-for-christ
 mas.ics
END:VEVENT
BEGIN:VTIMEZONE
TZID:US/Central
X-LIC-LOCATION:US/Central
BEGIN:STANDARD
DTSTART:20111106T010000
TZNAME:CST
TZOFFSETFROM:-0500
TZOFFSETTO:-0600
END:STANDARD
END:VTIMEZONE
END:VCALENDAR
