BEGIN:VCALENDAR
VERSION:2.0
PRODID:-//Plone.org//NONSGML plone.app.event//EN
X-WR-TIMEZONE:US/Central
BEGIN:VEVENT
SUMMARY:Texas Tuesdays! Guest Speaker Mike Loftis and Liz McDaniel
DTSTART;TZID=US/Central:20120612T100000
DTEND;TZID=US/Central:20120612T104500
DTSTAMP:20260425T141506Z
UID:737689861a9b7a15538790f32e257931@saas_stack_varnish:6080
CREATED:20120430T173725Z
LAST-MODIFIED:20120531T212750Z
URL:https://www.groesbecklibrary.org/news-events/lib-cal/texas-tuesdays-gu
 est-speaker-liz-mcdaniel.ics
END:VEVENT
BEGIN:VTIMEZONE
TZID:US/Central
X-LIC-LOCATION:US/Central
BEGIN:DAYLIGHT
DTSTART:20120311T030000
TZNAME:CDT
TZOFFSETFROM:-0600
TZOFFSETTO:-0500
END:DAYLIGHT
END:VTIMEZONE
END:VCALENDAR
