BEGIN:VCALENDAR
VERSION:2.0
PRODID:-//Plone.org//NONSGML plone.app.event//EN
X-WR-TIMEZONE:US/Central
BEGIN:VEVENT
SUMMARY:Toddler Reading Time
DTSTART;TZID=US/Central:20120718T140000
DTEND;TZID=US/Central:20120718T143000
DTSTAMP:20260419T152346Z
UID:d8075f0575f53b0f30e84bfcf5d87bf5@saas_stack_varnish:6080
CREATED:20120515T201703Z
LAST-MODIFIED:20120515T201712Z
URL:https://www.groesbecklibrary.org/news-events/lib-cal/toddler-reading-t
 ime-2-00-3-00-17.ics
END:VEVENT
BEGIN:VTIMEZONE
TZID:US/Central
X-LIC-LOCATION:US/Central
BEGIN:DAYLIGHT
DTSTART:20120311T030000
TZNAME:CDT
TZOFFSETFROM:-0600
TZOFFSETTO:-0500
END:DAYLIGHT
END:VTIMEZONE
END:VCALENDAR
